BEGIN:VCALENDAR
VERSION:2.0
PRODID:-//MWP Care Limited - ECPv5.0.1//NONSGML v1.0//EN
CALSCALE:GREGORIAN
METHOD:PUBLISH
X-WR-CALNAME:MWP Care Limited
X-ORIGINAL-URL:https://www.mwpcare.com.au
X-WR-CALDESC:Events for MWP Care Limited
BEGIN:VTIMEZONE
TZID:Australia/Sydney
BEGIN:STANDARD
TZOFFSETFROM:+1100
TZOFFSETTO:+1000
TZNAME:AEST
DTSTART:20200404T160000
END:STANDARD
BEGIN:DAYLIGHT
TZOFFSETFROM:+1000
TZOFFSETTO:+1100
TZNAME:AEDT
DTSTART:20201003T160000
END:DAYLIGHT
END:VTIMEZONE
BEGIN:VEVENT
DTSTART;VALUE=DATE:20200310
DTEND;VALUE=DATE:20200311
DTSTAMP:20200227T130653
CREATED:20200224T035818Z
LAST-MODIFIED:20200224T045206Z
UID:1906-1583798400-1583884799@www.mwpcare.com.au
SUMMARY:Club Marconi Star Buffet
DESCRIPTION:A delicious lunch awaits you at Club Marconi’s Star Buffet with an amazing variety of cuisines. You won’t need much dinner tonight!! \nCOST $45.00 includes Transport\, Buffet Lunch \nTo book an outing please call MWP Care on 9913 3244 \n
URL:https://www.mwpcare.com.au/event/club-marconi-star-buffet/
LOCATION:Club Marconi\, 121-133 Prairie Vale Rd\, Bossley Park\, NSW\, 2176\, Australia
CATEGORIES:Bus Outings
ATTACH;FMTTYPE=image/jpeg:https://www.mwpcare.com.au/wp-content/uploads/star-buffet-web.jpg
END:VEVENT
END:VCALENDAR